BEGIN:VCALENDAR
VERSION:2.0
PRODID:-//Marin Audubon Society - ECPv6.15.20//NONSGML v1.0//EN
CALSCALE:GREGORIAN
METHOD:PUBLISH
X-WR-CALNAME:Marin Audubon Society
X-ORIGINAL-URL:https://marinaudubon.org
X-WR-CALDESC:Events for Marin Audubon Society
REFRESH-INTERVAL;VALUE=DURATION:PT1H
X-Robots-Tag:noindex
X-PUBLISHED-TTL:PT1H
BEGIN:VTIMEZONE
TZID:America/Los_Angeles
BEGIN:DAYLIGHT
TZOFFSETFROM:-0800
TZOFFSETTO:-0700
TZNAME:PDT
DTSTART:20190310T100000
END:DAYLIGHT
BEGIN:STANDARD
TZOFFSETFROM:-0700
TZOFFSETTO:-0800
TZNAME:PST
DTSTART:20191103T090000
END:STANDARD
BEGIN:DAYLIGHT
TZOFFSETFROM:-0800
TZOFFSETTO:-0700
TZNAME:PDT
DTSTART:20200308T100000
END:DAYLIGHT
BEGIN:STANDARD
TZOFFSETFROM:-0700
TZOFFSETTO:-0800
TZNAME:PST
DTSTART:20201101T090000
END:STANDARD
BEGIN:DAYLIGHT
TZOFFSETFROM:-0800
TZOFFSETTO:-0700
TZNAME:PDT
DTSTART:20210314T100000
END:DAYLIGHT
BEGIN:STANDARD
TZOFFSETFROM:-0700
TZOFFSETTO:-0800
TZNAME:PST
DTSTART:20211107T090000
END:STANDARD
END:VTIMEZONE
BEGIN:VEVENT
DTSTART;TZID=America/Los_Angeles:20201202T190000
DTEND;TZID=America/Los_Angeles:20201202T203000
DTSTAMP:20260424T134522
CREATED:20201122T104832Z
LAST-MODIFIED:20201122T104925Z
UID:10000033-1606935600-1606941000@marinaudubon.org
SUMMARY:Sandhill Crane Populations in California’s Central Valley
DESCRIPTION:Wednesday\, December 2\, 2020\n7:00 PM to 8:30 PM\nWith Gary Ivey\, Ph.D.\nCLICK HERE to register for the Zoom Event \nWhile only occasionally seen in Marin\, both breeding and wintering Sandhill Cranes can be found in greater abundance in California’s Central Valley and the broader Pacific Flyway. All things Sandhill Crane related will be covered in this program: some history\, their status\, their life history\, migration routes\, and breeding areas of the three subspecies that use our state. Dr. Ivey will also discuss where and when you can enjoy them during their winter season. \nDr. Ivey is an undisputed expert who has concentrated his work for over 35 years on waterbirds\, waterfowl\, and wetland conservation. Sandhill Cranes were the focus of both his Master’s Thesis and Ph.D. He currently serves as a Research Associate with the International Crane Foundation (Saving cranes and the places where cranes dance!) and works to further conservation of cranes\, Trumpeter Swans\, and other waterbirds in Western North America.
URL:https://marinaudubon.org/event/sandhill-crane-populations-in-californias-central-valley/
LOCATION:Zoom Event\, CA\, United States
CATEGORIES:Field Trips
ATTACH;FMTTYPE=image/jpeg:https://marinaudubon.org/wp-content/uploads/2020/11/Gary-Ivey-with-Greater-Sandhill-Crane.jpg
END:VEVENT
BEGIN:VEVENT
DTSTART;TZID=America/Los_Angeles:20201209T190000
DTEND;TZID=America/Los_Angeles:20201209T203000
DTSTAMP:20260424T134522
CREATED:20201122T104357Z
LAST-MODIFIED:20201122T104357Z
UID:10000119-1607540400-1607545800@marinaudubon.org
SUMMARY:Refuge - a Film from Gray Lodge Wildlife Area
DESCRIPTION:December 9\, 2020\n7:00 PM to 8:30 PM\nWith Director Mark Lipman\nCLICK HERE to register for the Zoom Event \nWe invite you to immerse yourself in the sights and sounds of this dawn-to-dusk portrait of the Gray Lodge Wildlife Area in Gridley.  When he first visited Gray Lodge in 2011\, Director Mark Lipman was not a birder but was deeply touched by the beauty of the place and the symphony of bird sounds.  On the night of our program\, Mark will briefly introduce his film and be available for the Q&A session afterwards. \nMark created this beautiful film and sound recording over a period of three winters.  His program is vastly different from our previous webinars and does not offer a classroom-type-learning presentation.  Rather it offers an aesthetic\, meditative experience that we hope you will enjoy as you head into the busy holiday season. \nThis forty-five minute film is intentionally slow paced with no talking\, although we may have a birding expert quietly identify the varied birds as they appear on the screen CLICK HERE access a Bird List in advance of the program. Then you can bird your way through the film! We recommend that you view this film on your largest available screen as Mark has created a three-channel video with surround sound\, and viewing would be optimum on a large screen. \nMark has worked as a documentary filmmaker for over thirty-five years\, exploring a wide range of subjects from domestic violence to human sexuality to affordable housing and community organizing.  His films have been broadcast nationally on public television and won numerous awards.  Refuge is his first foray into video installations and the natural world.
URL:https://marinaudubon.org/event/refuge-a-film-from-gray-lodge-wildlife-area/
LOCATION:Zoom Event\, CA\, United States
CATEGORIES:Field Trips
ATTACH;FMTTYPE=image/jpeg:https://marinaudubon.org/wp-content/uploads/2020/11/preserve.jpg
END:VEVENT
END:VCALENDAR