BEGIN:VCALENDAR
VERSION:2.0
PRODID:-//Marin Audubon Society - ECPv6.15.20//NONSGML v1.0//EN
CALSCALE:GREGORIAN
METHOD:PUBLISH
X-ORIGINAL-URL:https://marinaudubon.org
X-WR-CALDESC:Events for Marin Audubon Society
REFRESH-INTERVAL;VALUE=DURATION:PT1H
X-Robots-Tag:noindex
X-PUBLISHED-TTL:PT1H
BEGIN:VTIMEZONE
TZID:UTC
BEGIN:STANDARD
TZOFFSETFROM:+0000
TZOFFSETTO:+0000
TZNAME:UTC
DTSTART:20190101T000000
END:STANDARD
END:VTIMEZONE
BEGIN:VEVENT
DTSTART;TZID=UTC:20200213T093000
DTEND;TZID=UTC:20200213T153000
DTSTAMP:20260421T174937
CREATED:20200122T030155Z
LAST-MODIFIED:20200128T043123Z
UID:10000008-1581586200-1581607800@marinaudubon.org
SUMMARY:Birding the Northwest Passage - Trip Rescheduled for February 13\, 2020
DESCRIPTION:Location: Tomales\, Lawson’s Landing\, and Chileno Valley\nTrip Leader(s): David Wimpfheimer\nStart Date: Thursday\, February 13\, 2020\nStart Time: 9:00 AM\nEnd Time: 3:30 PM\nDescription: This annual winter trip repeats David’s popular guided explorations of the less familiar habitats in Marin near the town of Tomales. We will meet at the Tomales Bakery\, and our itinerary for the day will cover coastal and interior habitats. Our first destination will be Lawson’s Landing\, a private resort near the mouth of Tomales Bay. Loons\, grebes (including Red-necked Grebe)\, ducks\, and Brant can be quite numerous here. Shorebirds are diverse here as well. After birding the coast\, the rest of the day may be spent covering the open grasslands\, wetlands\, and forests of this part of Marin. Raptor sightings may include Ferruginous and Rough-legged Hawk\, Golden Eagle\, and Merlin\, and\, if we are lucky\, we may spot the now uncommon-in-Marin Loggerhead Shrike. Meet at the Tomales Bakery at 9:00 AM. Plan on arriving early to sample the delicious pastries. If the bakery is closed\, the deli nearby has a nice variety of food and beverages. Check your map for your best route to Tomales. You can head west from Highway 101 at Old Redwood Highway in Petaluma or from Novato at San Marin Drive. The address of the bakery is 27000 Highway 1\, Tomales. Allow about an hour from Marin. Light rain will not cancel this trip\, but a heavy storm will.
URL:https://marinaudubon.org/event/birding-the-northwest-passage-trip-rescheduled-for-february-13-2020/
LOCATION:CA\, United States
CATEGORIES:Field Trips
END:VEVENT
END:VCALENDAR