BEGIN:VCALENDAR
VERSION:2.0
PRODID:-//Marin Audubon Society - ECPv6.15.20//NONSGML v1.0//EN
CALSCALE:GREGORIAN
METHOD:PUBLISH
X-ORIGINAL-URL:https://marinaudubon.org
X-WR-CALDESC:Events for Marin Audubon Society
REFRESH-INTERVAL;VALUE=DURATION:PT1H
X-Robots-Tag:noindex
X-PUBLISHED-TTL:PT1H
BEGIN:VTIMEZONE
TZID:UTC
BEGIN:STANDARD
TZOFFSETFROM:+0000
TZOFFSETTO:+0000
TZNAME:UTC
DTSTART:20190101T000000
END:STANDARD
END:VTIMEZONE
BEGIN:VEVENT
DTSTART;TZID=UTC:20200307T090000
DTEND;TZID=UTC:20200307T120000
DTSTAMP:20260424T201836
CREATED:20200122T031039Z
LAST-MODIFIED:20200128T043502Z
UID:10000084-1583571600-1583582400@marinaudubon.org
SUMMARY:Stafford Lake
DESCRIPTION:Location: Novato\, CA\nTrip Leader(s): Bob Atwood\nStart Date: Saturday\, March 7\, 2020\nStart Time: 9:00 AM\nEnd Time: 12:00 PM\nDescription: Located west of Novato\, Stafford Lake is a beautiful but less birded area that is productive for waterfowl and raptors. Approximately 172 species of birds have been spotted at Stafford Lake throughout the years with our group likely to see a considerable variety of the resident as well as wintering birds. The county park has facilities and plenty of parking. The mostly level terrain and water views make for pleasant birding as we walk around a portion of the lake and the surrounding area. Heavy rain cancels. DIRECTIONS: From Highway 101 in Novato\, take the exit for San Marin Drive west 2.9 miles. Turn right onto Novato Blvd. and follow for 2.6 miles. The park is on the left. Turn left after the gatehouse and travel to the parking lot. Entrance fee is $5 per vehicle. If you have a Marin County library card\, you can check out a free library park pass from any Marin County Free Library.
URL:https://marinaudubon.org/event/stafford-lake/
LOCATION:CA\, United States
CATEGORIES:Field Trips
END:VEVENT
END:VCALENDAR