BEGIN:VCALENDAR
VERSION:2.0
PRODID:-//Marin Audubon Society - ECPv6.15.20//NONSGML v1.0//EN
CALSCALE:GREGORIAN
METHOD:PUBLISH
X-ORIGINAL-URL:https://marinaudubon.org
X-WR-CALDESC:Events for Marin Audubon Society
REFRESH-INTERVAL;VALUE=DURATION:PT1H
X-Robots-Tag:noindex
X-PUBLISHED-TTL:PT1H
BEGIN:VTIMEZONE
TZID:America/Los_Angeles
BEGIN:DAYLIGHT
TZOFFSETFROM:-0800
TZOFFSETTO:-0700
TZNAME:PDT
DTSTART:20240310T100000
END:DAYLIGHT
BEGIN:STANDARD
TZOFFSETFROM:-0700
TZOFFSETTO:-0800
TZNAME:PST
DTSTART:20241103T090000
END:STANDARD
BEGIN:DAYLIGHT
TZOFFSETFROM:-0800
TZOFFSETTO:-0700
TZNAME:PDT
DTSTART:20250309T100000
END:DAYLIGHT
BEGIN:STANDARD
TZOFFSETFROM:-0700
TZOFFSETTO:-0800
TZNAME:PST
DTSTART:20251102T090000
END:STANDARD
BEGIN:DAYLIGHT
TZOFFSETFROM:-0800
TZOFFSETTO:-0700
TZNAME:PDT
DTSTART:20260308T100000
END:DAYLIGHT
BEGIN:STANDARD
TZOFFSETFROM:-0700
TZOFFSETTO:-0800
TZNAME:PST
DTSTART:20261101T090000
END:STANDARD
END:VTIMEZONE
BEGIN:VEVENT
DTSTART;TZID=America/Los_Angeles:20250607T083000
DTEND;TZID=America/Los_Angeles:20250607T150000
DTSTAMP:20260419T103310
CREATED:20250429T174808Z
LAST-MODIFIED:20250525T193550Z
UID:10000276-1749285000-1749308400@marinaudubon.org
SUMMARY:Big Rock and Las Gallinas Ponds
DESCRIPTION:Birding in Marin\, Season 10\, Trip 6\nSaturday\, June 7\, 2025\n8:30 AM to mid-afternoon\nBirding with Jim White and Bob Battagin \nRegistration required for this trip. Registration opens on May 27 at 8:00 AM \nREGISTER HERE \nTrails at Big Rock\, rather steep\, allow us to view some of the expansive grasslands and forested ravines in Marin. Some of the grassland nesting birds we will be looking for include Lazuli Bunting\, Grasshopper Sparrow\, Horned Lark\, and Ash-throated Flycatcher. We will also have a vast amount of sky visible so swallows\, swifts\, and raptors may appear with a chance for a Golden Eagle. \nAt midday we expect to drive Lucas Valley Road to Las Gallinas\, where we’ll stop to eat our lunch before looking for American and Least Bitterns\, Green Heron\, Cinnamon Teal\, Common Gallinule\, and Great-tailed Grackle. \nDIRECTIONS: From Highway 101 in San Rafael\, exit on Lucas Valley Rd and go west approximately 5.5 miles (look for the big rock). We will be walking approximately 3 miles. Because this area can get quite hot this time of year\, be sure to wear a hat\, use sunscreen and carry plenty of water.
URL:https://marinaudubon.org/event/big-rock-and-las-gallinas-ponds/
CATEGORIES:Field Trips
ATTACH;FMTTYPE=image/png:https://marinaudubon.org/wp-content/uploads/2025/04/Big-Rock.png
END:VEVENT
END:VCALENDAR