BEGIN:VCALENDAR
VERSION:2.0
PRODID:-//Marin Audubon Society - ECPv6.15.20//NONSGML v1.0//EN
CALSCALE:GREGORIAN
METHOD:PUBLISH
X-ORIGINAL-URL:https://marinaudubon.org
X-WR-CALDESC:Events for Marin Audubon Society
REFRESH-INTERVAL;VALUE=DURATION:PT1H
X-Robots-Tag:noindex
X-PUBLISHED-TTL:PT1H
BEGIN:VTIMEZONE
TZID:America/Los_Angeles
BEGIN:DAYLIGHT
TZOFFSETFROM:-0800
TZOFFSETTO:-0700
TZNAME:PDT
DTSTART:20190310T100000
END:DAYLIGHT
BEGIN:STANDARD
TZOFFSETFROM:-0700
TZOFFSETTO:-0800
TZNAME:PST
DTSTART:20191103T090000
END:STANDARD
BEGIN:DAYLIGHT
TZOFFSETFROM:-0800
TZOFFSETTO:-0700
TZNAME:PDT
DTSTART:20200308T100000
END:DAYLIGHT
BEGIN:STANDARD
TZOFFSETFROM:-0700
TZOFFSETTO:-0800
TZNAME:PST
DTSTART:20201101T090000
END:STANDARD
BEGIN:DAYLIGHT
TZOFFSETFROM:-0800
TZOFFSETTO:-0700
TZNAME:PDT
DTSTART:20210314T100000
END:DAYLIGHT
BEGIN:STANDARD
TZOFFSETFROM:-0700
TZOFFSETTO:-0800
TZNAME:PST
DTSTART:20211107T090000
END:STANDARD
END:VTIMEZONE
BEGIN:VEVENT
DTSTART;TZID=America/Los_Angeles:20201014T190000
DTEND;TZID=America/Los_Angeles:20201014T203000
DTSTAMP:20260420T115830
CREATED:20200916T022925Z
LAST-MODIFIED:20201017T040828Z
UID:10000110-1602702000-1602707400@marinaudubon.org
SUMMARY:Online Birding:  The Biology of Owl Vocalizations – What ARE They Talking About?
DESCRIPTION:Zoom Program – CLICK HERE to sign up\nStart Date:  CORRECT TIME: Wednesday\, October 14\, 2020\nTime:  CORRECT TIME: 7 PM to 8:30 PM\nWith Joe Mueller \nThe sounds of owls talking late into the night may seem mysterious\, but there are solid biologically accepted reasons for their diversity of vocalizations.  The variation has much to do with how owls have evolved\, becoming the dominant nocturnal avian predators.  Join Joe for an introduction to owls with a focus on the exploration as to why owls have evolved such a plentiful repertoire of hoots\, howls\, wails\, screams\, whistles\, yelps\, shrieks\, barks\, whines\, and whinnies. \nAs a Professor of Biology for 30 years Joe has been teaching a rich diversity of courses ranging from ornithology to marine invertebrate zoology as well as leading field courses from Alaskan tundra to Costa Rican Tropical Rain Forests.  His teaching style has developed from a view of life focused on systems thinking and how interrelationships make up the essential nature of life.  He developed and coordinates the Natural History Program at College of Marin and is the 2008 recipient of the Terwilliger Environmental Education Award. \nPhoto Credit: Elyse Omernick
URL:https://marinaudubon.org/event/online-birding-the-biology-of-owl-vocalizations-what-are-they-talking-about/
LOCATION:Zoom Event\, CA\, United States
CATEGORIES:Field Trips,Zoom Webinar
ATTACH;FMTTYPE=image/jpeg:https://marinaudubon.org/wp-content/uploads/2019/11/Q5A8214.jpg
END:VEVENT
END:VCALENDAR