BEGIN:VCALENDAR
VERSION:2.0
PRODID:-//Marin Audubon Society - ECPv6.15.20//NONSGML v1.0//EN
CALSCALE:GREGORIAN
METHOD:PUBLISH
X-WR-CALNAME:Marin Audubon Society
X-ORIGINAL-URL:https://marinaudubon.org
X-WR-CALDESC:Events for Marin Audubon Society
REFRESH-INTERVAL;VALUE=DURATION:PT1H
X-Robots-Tag:noindex
X-PUBLISHED-TTL:PT1H
BEGIN:VTIMEZONE
TZID:America/Los_Angeles
BEGIN:DAYLIGHT
TZOFFSETFROM:-0800
TZOFFSETTO:-0700
TZNAME:PDT
DTSTART:20230312T100000
END:DAYLIGHT
BEGIN:STANDARD
TZOFFSETFROM:-0700
TZOFFSETTO:-0800
TZNAME:PST
DTSTART:20231105T090000
END:STANDARD
BEGIN:DAYLIGHT
TZOFFSETFROM:-0800
TZOFFSETTO:-0700
TZNAME:PDT
DTSTART:20240310T100000
END:DAYLIGHT
BEGIN:STANDARD
TZOFFSETFROM:-0700
TZOFFSETTO:-0800
TZNAME:PST
DTSTART:20241103T090000
END:STANDARD
BEGIN:DAYLIGHT
TZOFFSETFROM:-0800
TZOFFSETTO:-0700
TZNAME:PDT
DTSTART:20250309T100000
END:DAYLIGHT
BEGIN:STANDARD
TZOFFSETFROM:-0700
TZOFFSETTO:-0800
TZNAME:PST
DTSTART:20251102T090000
END:STANDARD
END:VTIMEZONE
BEGIN:VEVENT
DTSTART;TZID=America/Los_Angeles:20240917T080000
DTEND;TZID=America/Los_Angeles:20240917T110000
DTSTAMP:20260424T205247
CREATED:20240816T001958Z
LAST-MODIFIED:20240816T001958Z
UID:10000225-1726560000-1726570800@marinaudubon.org
SUMMARY:Audubon Canyon Ranch’s Cypress Grove Research Center
DESCRIPTION:Tuesday\, September 17\, 2024\n8:00 AM – 11:00 AM\nBirding with David Lumpkin\nRegister HERE for this Field Trip \nRegistration is required. Registration opens September 7th at 8AM. \nJoin avian ecologist David Lumpkin\, for a field trip to his work location\, Audubon Canyon Ranch’s Cypress Grove Research Center. All levels of birding enthusiasts are welcome on this easy two-mile walk. \nSightings on our walk to and along Tomales Bay at this time of year may include ocean birds if conditions are right (Jaegar’s come down the bay chasing the migrating terns around then)\, the occasional vagrant passerine\, and an influx of interior breeders not seen in the summer. Other migrating shorebirds and waterbirds may be seen as well as the usual mix of coastal prairie species. Rain does not cancel. \nDirections: Address for Audubon Canyon Ranch’s Cypress Grove Research Center is 20545 State Hwy 1\, Marshall\, CA 94940 \nGoing north on Hwy 1\, look for a green metal gate (which will be left open) on the Tomales Bay side and a Cypress Grove sign. The gate is roughly a 1/2-mile north of Hog Island Oysters in Marshall (and the turnoff to the Marshall-Petaluma Rd.) and well before Nick’s Cove. Drive down the dirt road to where it splits\, bear left\, and park at the visitor parking lot.
URL:https://marinaudubon.org/event/audubon-canyon-ranchs-cypress-grove-research-center/
LOCATION:CA
CATEGORIES:Field Trips
ATTACH;FMTTYPE=image/jpeg:https://marinaudubon.org/wp-content/uploads/2024/08/1-33-e1723767565734.jpg
END:VEVENT
BEGIN:VEVENT
DTSTART;TZID=America/Los_Angeles:20240918T083000
DTEND;TZID=America/Los_Angeles:20240918T110000
DTSTAMP:20260424T205247
CREATED:20240816T002305Z
LAST-MODIFIED:20240910T175301Z
UID:10000226-1726648200-1726657200@marinaudubon.org
SUMMARY:Black Mountain Ranch Bird Walk - CANCELED
DESCRIPTION:This trip has been canceled. We will notify you if/when it is rescheduled. Sorry for the inconvenience!
URL:https://marinaudubon.org/event/black-mountain-ranch-bird-walk/
LOCATION:CA
CATEGORIES:Field Trips
ATTACH;FMTTYPE=image/jpeg:https://marinaudubon.org/wp-content/uploads/2024/08/Screenshot-2024-08-15-at-1.41.24 PM-e1723767776183.jpg
END:VEVENT
BEGIN:VEVENT
DTSTART;TZID=America/Los_Angeles:20241003T083000
DTEND;TZID=America/Los_Angeles:20241003T120000
DTSTAMP:20260424T205247
CREATED:20240815T231554Z
LAST-MODIFIED:20240815T231554Z
UID:10000221-1727944200-1727956800@marinaudubon.org
SUMMARY:The Ponds at Las Gallinas Valley Sanitary District
DESCRIPTION:Thursday\, October 3\, 2024\n8:30 AM to 12:00 PM\nBirding with Mark Clark \nAll participants are welcome to join this trip. \nWe welcome bird enthusiasts of all levels\, especially beginning birders\, to join leader Mark Clark on our monthly walk around the ponds at Las Gallinas.  On our search we’ll be looking for waterfowl\, waders\, songbirds\, raptors\, rails and swallows. With fall migration underway\, shorebirds are arriving from their nesting grounds and we are likely to spot some interesting species\, so come assist in our search. \nThe packed dirt paths around the ponds are wide\, flat and easy to navigate. Heavy rain cancels \nDIRECTIONS: From Hwy 101\, exit at Smith Ranch Rd. Drive east on Smith Ranch Rd. toward McInnis Park. Turn left immediately after crossing the railroad tracks and drive about 0.5 mile through the LGVSD gates and into the parking lot at the end of the road. Meet the group by the bridge just past the parking lot. There is a portable restroom in the parking area for public use.
URL:https://marinaudubon.org/event/the-ponds-at-las-gallinas-valley-sanitary-district-3/
LOCATION:CA
CATEGORIES:Field Trips
ATTACH;FMTTYPE=image/jpeg:https://marinaudubon.org/wp-content/uploads/2022/05/lasgallinas3_0-e1697511437869.jpg
END:VEVENT
BEGIN:VEVENT
DTSTART;TZID=America/Los_Angeles:20241005T083000
DTEND;TZID=America/Los_Angeles:20241005T153000
DTSTAMP:20260424T205247
CREATED:20240816T002922Z
LAST-MODIFIED:20240824T220014Z
UID:10000227-1728117000-1728142200@marinaudubon.org
SUMMARY:Abbotts Lagoon and the Inverness Tennis Area - Birding in Marin
DESCRIPTION:Birding in Marin – Series 9\, Trip 10\nSaturday\, October 5th\, 2024\n8:30 AM to mid-afternoon\nBirding with Jim White and Bob Battagin\nRegister HERE for this Field Trip \nRegistration required for this trip. Registration opens on September 26th at 8:00 AM. \nAbbotts Lagoon on the Pacific Coast in the Point Reyes National Seashore is one of Marin’s premier birding locations\, sporting an eBird sum of 283 species. Fall migration south along the coast brings many birds to this area. Some that we hope to see include Ferruginous Hawk\, Baird’s and Pectoral Sandpipers\, Red-necked Phalaropes\, Lapland Longspur\, Horned Lark and Pipits. Hundreds of ducks of a dozen species\, geese\, herons\, Peregrines and Ospreys are also likely visitors. Plus\, you get some exercise; out and back is about 2 miles (some in sand). Pack a lunch for a picnic on the beach and bring a couple of layers for the fresh ocean air and help us spot a rarity. \nAfter leaving Abbotts Lagoon\, we plan to stop along Tomales Bay near the Inverness Tennis club to look for Pine and Alder woodland birds. A surprising number of species have been seen here and there is a nice little beach where we usually find several kinds of gulls. \nDIRECTIONS: From Point Reyes Station on Highway 1 go just south of town\, right turn onto Sir Francis Drake Blvd\, follow that thru Inverness up over Inverness ridge into the Point Reyes National Seashore then go north on Pierce Point Road. The Abbotts Lagoon parking lot is on the left\, in about 3 miles. Car Pool if you can\, allow 1.5 hours from San Rafael.
URL:https://marinaudubon.org/event/abbotts-lagoon-and-the-inverness-tennis-area-birding-in-marin-2/
LOCATION:CA
CATEGORIES:Field Trips
ATTACH;FMTTYPE=image/jpeg:https://marinaudubon.org/wp-content/uploads/2024/08/Screenshot-2024-08-14-at-2.57.33 PM-e1723768147810.jpg
END:VEVENT
BEGIN:VEVENT
DTSTART;TZID=America/Los_Angeles:20241009T073000
DTEND;TZID=America/Los_Angeles:20241009T120000
DTSTAMP:20260424T205247
CREATED:20240920T023011Z
LAST-MODIFIED:20240920T023011Z
UID:10000229-1728459000-1728475200@marinaudubon.org
SUMMARY:Rodeo Lagoon - Marin Headlands | October
DESCRIPTION:Wednesday\, October 9\, 2024\n7:30/8:15 AM to noon **Note start times below\nBirding with William Legge and David Wiechers\nRegister HERE for this Field Trip \nRegistration required for this trip. Registration opens on September 29 at 8 AM \nJoin William and David for this fourth fall migration field trip at Rodeo Lagoon. This is their long-time “patch\,” which never seems to disappoint birders with daily variations in species and a good chance of an unusual sighting. On this trip\, our group will be targeting scarcer passerines and other mid-fall migrants. We will begin the morning with a Sea Watch from Rodeo Beach at 7:30 AM. Those arriving later may join us at 8:15 AM for a circuit of the lagoon. A brief mid-morning ‘coffee-stop’ is planned at Headlands Center for the Arts and it would be appreciated if participants come willing to contribute via the onsite ‘tip-jar’ as a thank you to the Headlands Center for the Arts for accommodating our group. This field trip is less suitable for beginners. \nDIRECTIONS: Head south on Hwy 101 and take the last Sausalito exit just before the Golden Gate Bridge. At the exit stop sign\, turn right and go under the freeway\, then follow the road down to the left. Within 300 feet turn left at the sign to the Marin Headlands (This is the only available left turn before you begin the descent into Sausalito). You should see the tunnel with the five-minute light. Proceed through the tunnel on Bunker Rd to the Rodeo Lagoon Parking Lot at the end. Meet by the bridge over the channel to the beach or join MAS birders with scopes along the nearby beach area. 
URL:https://marinaudubon.org/event/rodeo-lagoon-marin-headlands-october/
LOCATION:CA
CATEGORIES:Field Trips
ATTACH;FMTTYPE=image/jpeg:https://marinaudubon.org/wp-content/uploads/2024/08/Screenshot-2024-08-14-at-2.41.41 PM-e1723764143419.jpg
END:VEVENT
BEGIN:VEVENT
DTSTART;TZID=America/Los_Angeles:20241010T190000
DTEND;TZID=America/Los_Angeles:20241010T210000
DTSTAMP:20260424T205247
CREATED:20240508T023111Z
LAST-MODIFIED:20240929T172402Z
UID:10000212-1728586800-1728594000@marinaudubon.org
SUMMARY:Raptor Quest: Chasing America's Raptors
DESCRIPTION:Thursday\, October 10th\n7:00 PM – 9:00 PM\nSpeaker: Scott Harris (Author & Photographer)\nRegister HERE For this Speaker Series \nScott Harris will be discussing his book “Raptor Quest: Chasing America’s Raptors”\, which documents his 17-month adventure tracking 53 raptor species across 34 states in the US\, from the common (Red-tailed Hawks\, Bald Eagles and Peregrine Falcons) to the rare (Bat Falcon\, Steller’s Sea Eagle and Eurasian Eagle Owl).  He will share photographs and stories of the many species he encountered; and relate stories of the places and various individuals he met along the way\, including adventures\, mid-adventures\, successes and failures. \nScott is a wildlife photographer\, author and speaker\, who moved to South Carolina from southern California in 2020\, when he first started birding\, a hobby he never imagined himself participating in\, but now can’t imagine living without.  While in California\, he had a syndicated newspaper column and two weekly radio shows and has authored over fifty books\, mostly Westerns and Children’s books\, and has just returned from safari in Africa. \nPhoto: Bald Eagle by Scott Harris \nNext Speaker – Thursday\, November 14\, 2024\nJosiah Clark – Christmas Bird Count
URL:https://marinaudubon.org/event/raptor-quest-chasing-americas-raptors/
LOCATION:CA
CATEGORIES:Speaker Series
ATTACH;FMTTYPE=image/jpeg:https://marinaudubon.org/wp-content/uploads/2024/05/Rail-Oct2024-SS-Chasing-Raptors-photo-e1726800229591.jpg
END:VEVENT
END:VCALENDAR