BEGIN:VCALENDAR
VERSION:2.0
PRODID:-//Marin Audubon Society - ECPv6.15.20//NONSGML v1.0//EN
CALSCALE:GREGORIAN
METHOD:PUBLISH
X-WR-CALNAME:Marin Audubon Society
X-ORIGINAL-URL:https://marinaudubon.org
X-WR-CALDESC:Events for Marin Audubon Society
REFRESH-INTERVAL;VALUE=DURATION:PT1H
X-Robots-Tag:noindex
X-PUBLISHED-TTL:PT1H
BEGIN:VTIMEZONE
TZID:America/Los_Angeles
BEGIN:DAYLIGHT
TZOFFSETFROM:-0800
TZOFFSETTO:-0700
TZNAME:PDT
DTSTART:20200308T100000
END:DAYLIGHT
BEGIN:STANDARD
TZOFFSETFROM:-0700
TZOFFSETTO:-0800
TZNAME:PST
DTSTART:20201101T090000
END:STANDARD
BEGIN:DAYLIGHT
TZOFFSETFROM:-0800
TZOFFSETTO:-0700
TZNAME:PDT
DTSTART:20210314T100000
END:DAYLIGHT
BEGIN:STANDARD
TZOFFSETFROM:-0700
TZOFFSETTO:-0800
TZNAME:PST
DTSTART:20211107T090000
END:STANDARD
BEGIN:DAYLIGHT
TZOFFSETFROM:-0800
TZOFFSETTO:-0700
TZNAME:PDT
DTSTART:20220313T100000
END:DAYLIGHT
BEGIN:STANDARD
TZOFFSETFROM:-0700
TZOFFSETTO:-0800
TZNAME:PST
DTSTART:20221106T090000
END:STANDARD
END:VTIMEZONE
BEGIN:VTIMEZONE
TZID:UTC
BEGIN:STANDARD
TZOFFSETFROM:+0000
TZOFFSETTO:+0000
TZNAME:UTC
DTSTART:20200101T000000
END:STANDARD
END:VTIMEZONE
BEGIN:VEVENT
DTSTART;TZID=America/Los_Angeles:20211113T083000
DTEND;TZID=America/Los_Angeles:20211113T123000
DTSTAMP:20260424T110953
CREATED:20211020T060823Z
LAST-MODIFIED:20211103T094055Z
UID:10000072-1636792200-1636806600@marinaudubon.org
SUMMARY:Birding at Willow Creek Road - Jenner CA
DESCRIPTION:Saturday\, November 13\, 2021\n8:30 AM to 12:30 PM \nBirding with Teresa and Miles Tuffli \nRegistration for this trip will be open starting on November 4 at 8:00 AM. There is a limit of 15 for this trip. There will not be a waiting list. No drop-ins allowed. All participants must be fully vaccinated. Please register via TicketBud HERE. \nHead up the Sonoma County coast to bird Willow Creek Road in Jenner. We’ll have the chance for multiple raptor species\, including potential for Ferruginous Hawk\, American Kestrel\, and maybe even Bald Eagle. Many year-round passerines will be frequenting the willows\, alders\, and scrub. With a view of the Russian River\, we’ll look for some waterbirds as well. \nWe’ll meet at the Russian House #1 restaurant and bird the road’s entrance on foot. We’ll then move all cars down the road to a large pullout. We’ll bird the willows\, creek area\, and river view on foot before consolidating cars and continuing down the road\, stopping to bird various sections. For a peek at the area\, check out Miles and Teresa’s recap of birding Willow Creek Road back in July. \nNo bathrooms. Heavy rain cancels. Bring binoculars\, layers\, sunscreen\, water\, lunch\, or snacks. Please carpool if possible. \nDIRECTIONS: Russian House #1 is at 9960 Hwy 1\, Jenner\, CA. It is 9 miles north of Bodega Bay (15–20 minutes)\, directly along Hwy 1\, on the right just before the Russian River bridge.
URL:https://marinaudubon.org/event/birding-at-willow-creek-road-jenner-ca/
LOCATION:CA\, United States
CATEGORIES:Field Trips
END:VEVENT
BEGIN:VEVENT
DTSTART;TZID=UTC:20211114T090000
DTEND;TZID=UTC:20211114T160000
DTSTAMP:20260424T110953
CREATED:20210927T072558Z
LAST-MODIFIED:20210927T072716Z
UID:10000155-1636880400-1636905600@marinaudubon.org
SUMMARY:Birds of the San Francisco and San Pablo Bays Cruise with Dolphin Charters
DESCRIPTION:Sunday\, November 14\, 9:00 a.m.–4:00 p.m.\n \nCLICK HERE to register for the field trip. Registration for this trip opens October 8 at 8AM. There will be a waiting list if this trip sells out\, and you will be notified if space becomes available.  \nSan Francisco Bay\, the largest and one of the most important estuaries along the Pacific Flyway\, is right in our own backyard. Join us as we cruise from Berkeley toward the Golden Gate Bridge and north into San Pablo Bay\, hugging the shorelines and waters that are home to thousands of wintering birds. We will pass ten islands\, under two bridges\, and up two creeks in four counties in search of migrating and resident waterfowl\, shore-birds and marine mammals. This trip offers water bird and marine mammal viewing in stunning locations\, many of which can only be seen by boat. In addition to the many ducks\, loons\, pelicans and gulls that come into the Bay for the winter\, we can also expect to see resident cormorants\, grebes\, terns\, and murres. \nDress in layers\, and bring liquids and lunch. All participants must be fully vaccinated. Please bring a mask for any time spent inside the cabin. \nThe trip costs $120. Limited to 25 people.  \nRegistered participants will receive directions to the Berkeley Marina and other instructions prior to the trip. 
URL:https://marinaudubon.org/event/birds-of-the-san-francisco-and-san-pablo-bays-cruise-with-dolphin-charters/
LOCATION:CA\, United States
CATEGORIES:Field Trips
END:VEVENT
BEGIN:VEVENT
DTSTART;TZID=UTC:20211117T073000
DTEND;TZID=UTC:20211117T120000
DTSTAMP:20260424T110953
CREATED:20211109T004654Z
LAST-MODIFIED:20211109T004654Z
UID:10000132-1637134200-1637150400@marinaudubon.org
SUMMARY:Rodeo Lagoon - Marin Headlands
DESCRIPTION:Wednesday\, November 17\, 2021\n7:30 AM to noon\nWith William Legge and David Wiechers \nClick HERE to register for the field trip \nMid-November is a surprisingly active time for migrants at this Marin Headlands location\, as we search for scarcer late fall migrants including winter wildfowl\, loons\, grebes and passerine migrants. As always\, the weather will determine the focus of our search on the day.  With this ‘hotspot’ producing some memorable Marin rarities in recent Novembers\, including Tricolored Heron\, Scaly-breasted Munia and Rusty Blackbird\, almost anything is possible! We will begin the morning with a sea watch (most productive when onshore winds are blowing) and/or visible migration watch (most productive when offshore winds are blowing) at 7:30 AM. Those arriving later may join us at 8:30 AM for a circuit of the lagoon.  \nRegistration for this trip will be open starting on November 8 at 8:00 AM on the MAS website Field Trips page. There is a limit of 12 participants for this trip. There will not be a waiting list. No drop-ins\, please. All participants must be fully vaccinated. \nDIRECTIONS: Head south on Hwy 101 and take the last Sausalito exit just before the Golden Gate Bridge. At the exit stop sign\, turn right and go under the freeway\, then follow the road down to the left. Within 300 feet turn left at the sign to the Marin Headlands (This is the only available left turn before you begin the descent into Sausalito). You should see the tunnel with the five-minute light. Proceed through the tunnel on Bunker Road to the Rodeo Lagoon Parking Lot at the end and meet by the bridge over the channel to the beach. 
URL:https://marinaudubon.org/event/rodeo-lagoon-marin-headlands-2/
CATEGORIES:Field Trips
END:VEVENT
END:VCALENDAR