BEGIN:VCALENDAR
VERSION:2.0
PRODID:-//Marin Audubon Society - ECPv6.15.20//NONSGML v1.0//EN
CALSCALE:GREGORIAN
METHOD:PUBLISH
X-ORIGINAL-URL:https://marinaudubon.org
X-WR-CALDESC:Events for Marin Audubon Society
REFRESH-INTERVAL;VALUE=DURATION:PT1H
X-Robots-Tag:noindex
X-PUBLISHED-TTL:PT1H
BEGIN:VTIMEZONE
TZID:America/Los_Angeles
BEGIN:DAYLIGHT
TZOFFSETFROM:-0800
TZOFFSETTO:-0700
TZNAME:PDT
DTSTART:20230312T100000
END:DAYLIGHT
BEGIN:STANDARD
TZOFFSETFROM:-0700
TZOFFSETTO:-0800
TZNAME:PST
DTSTART:20231105T090000
END:STANDARD
BEGIN:DAYLIGHT
TZOFFSETFROM:-0800
TZOFFSETTO:-0700
TZNAME:PDT
DTSTART:20240310T100000
END:DAYLIGHT
BEGIN:STANDARD
TZOFFSETFROM:-0700
TZOFFSETTO:-0800
TZNAME:PST
DTSTART:20241103T090000
END:STANDARD
BEGIN:DAYLIGHT
TZOFFSETFROM:-0800
TZOFFSETTO:-0700
TZNAME:PDT
DTSTART:20250309T100000
END:DAYLIGHT
BEGIN:STANDARD
TZOFFSETFROM:-0700
TZOFFSETTO:-0800
TZNAME:PST
DTSTART:20251102T090000
END:STANDARD
END:VTIMEZONE
BEGIN:VEVENT
DTSTART;TZID=America/Los_Angeles:20241212T190000
DTEND;TZID=America/Los_Angeles:20241212T210000
DTSTAMP:20260424T210108
CREATED:20241027T213046Z
LAST-MODIFIED:20241027T213046Z
UID:10000239-1734030000-1734037200@marinaudubon.org
SUMMARY:Colombia: South America’s Birding Mecca
DESCRIPTION:Thursday\, December 12\, 2024\nSpeaker: Benny Jacobs-Schwartz\nMore information coming soon!
URL:https://marinaudubon.org/event/colombia-south-americas-birding-mecca/
CATEGORIES:Speaker Series
END:VEVENT
BEGIN:VEVENT
DTSTART;TZID=America/Los_Angeles:20241212T190000
DTEND;TZID=America/Los_Angeles:20241212T210000
DTSTAMP:20260424T210108
CREATED:20241125T164024Z
LAST-MODIFIED:20241125T164024Z
UID:10000244-1734030000-1734037200@marinaudubon.org
SUMMARY:Colombia: South America’s Birding Capital
DESCRIPTION:Thursday\, December 12\, 2024\n7:00 pm – 9:00 pm\nSpeaker; Benny Jacobs-Schwartz\nRegister HERE for this Speaker Series \nTopic:\nGet ready for a dive into South America’s birdiest country! Together we’ll explore Colombia’s unique ecology\, breathtaking scenery\, and unparalleled avian diversity! Colombia holds the record with nearly 2\,000 bird species and an impressive 80 endemics! \nDuring our time together\, we’ll discuss what has given rise to such incredible diversity. Topics include the country’s five regions\, how the Andes Mountain Range formed into three distinct cordilleras\, the importance of the mighty Rio Magdalena\, and national conservation successes. From sloth-eating Harpy Eagles to shy antpittas\, and menageries of colorful tanagers and hummingbirds\, Colombia’s astonishing diversity will leave you wanting more! \nSpeaker Bio:\nBenny Isaac Jacobs-Schwartz owns and operates a bird-guiding business and lifestyle brand called BIRDS by BIJS (pronounced Bee-jus). With a background in biology\, ecology\, and outdoor education\, Benny has worked for over 13 years as a naturalist guide\, expedition trip leader\, and international bird guide. Benny offers guided birding outings in Southern California and small-group birding tours to his favorite tropical locales like Costa Rica\, Ecuador\, and Colombia. \nBenny is a passionate educator and photographer\, specializing in birds! Benny is active on social media where he creates fun\, educational videos and posts to inspire others about the natural world with the goal of getting folks to put down their phones and pick up their Binos. \nNext Speaker: Migratory Shorebirds\nThursday\, January 9\, 2025\nSpeaker: Matt Reiter (Point Blue)
URL:https://marinaudubon.org/event/colombia-south-americas-birding-capital/
CATEGORIES:Speaker Series
ATTACH;FMTTYPE=image/jpeg:https://marinaudubon.org/wp-content/uploads/2024/11/Andean-Cock-of-the-Rock-scaled-e1732552782443.jpg
END:VEVENT
BEGIN:VEVENT
DTSTART;VALUE=DATE:20241214
DTEND;VALUE=DATE:20241215
DTSTAMP:20260424T210108
CREATED:20241030T185621Z
LAST-MODIFIED:20241030T185930Z
UID:10000240-1734134400-1734220799@marinaudubon.org
SUMMARY:Cheap Thrills CBC
DESCRIPTION:Covering North Marin and extending into Southern Sonoma County.\nContact Susan Kelly: cheepthrills@icloud.com
URL:https://marinaudubon.org/event/cheap-thrills-cbc/
CATEGORIES:Special Events
END:VEVENT
END:VCALENDAR